BEGIN:VCALENDAR
VERSION:2.0
PRODID:-//OAB/SE - ECPv6.15.14//NONSGML v1.0//EN
CALSCALE:GREGORIAN
METHOD:PUBLISH
X-ORIGINAL-URL:https://oabsergipe.org.br
X-WR-CALDESC:Eventos para OAB/SE
REFRESH-INTERVAL;VALUE=DURATION:PT1H
X-Robots-Tag:noindex
X-PUBLISHED-TTL:PT1H
BEGIN:VTIMEZONE
TZID:America/Sao_Paulo
BEGIN:STANDARD
TZOFFSETFROM:-0300
TZOFFSETTO:-0300
TZNAME:-03
DTSTART:20230101T000000
END:STANDARD
END:VTIMEZONE
BEGIN:VEVENT
DTSTART;TZID=America/Sao_Paulo:20250325T120000
DTEND;TZID=America/Sao_Paulo:20250325T170000
DTSTAMP:20260424T225903
CREATED:20250305T182119Z
LAST-MODIFIED:20250321T182435Z
UID:91515-1742904000-1742922000@oabsergipe.org.br
SUMMARY:Mês da Mulher - Séculos de Lutas e Conquistas - Edição Propriá
DESCRIPTION:E o evento Mês da Mulher – Séculos de Lutas e Conquistas desembarca na Regional de Propriá na próxima terça-feira\, 25\, a partir das 12h\, com um almoço festivo para as advogadas da região. \nA comemoração pelo mês da mulher vai ser realizada no EspetinhoAju Telha\, localizado na Praia da Adutora\, Telha/SE.
URL:https://oabsergipe.org.br/evento/mes-da-mulher-seculos-de-lutas-e-conquistas-edicao-propria/
CATEGORIES:Destaques,Eventos
ATTACH;FMTTYPE=image/jpeg:https://oabsergipe.org.br/wp-content/uploads/2025/03/WhatsApp-Image-2025-03-20-at-15.19.38.jpeg
END:VEVENT
BEGIN:VEVENT
DTSTART;TZID=America/Sao_Paulo:20250325T083000
DTEND;TZID=America/Sao_Paulo:20250325T110000
DTSTAMP:20260424T225903
CREATED:20250321T143942Z
LAST-MODIFIED:20250321T144039Z
UID:91506-1742891400-1742900400@oabsergipe.org.br
SUMMARY:Mês da Mulher - Séculos de Lutas e Conquistas - Edição Vale do Cotinguiba
DESCRIPTION:Na próxima terça-feira\, 25\, a Regional do Vale do Cotinguiba vai realizar o evento Mês da Mulher – Séculos de Lutas e Conquistas com um delicioso café da manhã festivo dedicado às advogadas da região. \nO encontro será a partir das 8h30\, na pizzaria Três Irmãos\, localizada na cidade de Laranjeiras.
URL:https://oabsergipe.org.br/evento/mes-da-mulher-seculos-de-lutas-e-conquistas-edicao-vale-do-cotinguiba/
CATEGORIES:Destaques,Eventos
ATTACH;FMTTYPE=image/jpeg:https://oabsergipe.org.br/wp-content/uploads/2025/03/WhatsApp-Image-2025-03-20-at-15.13.26.jpeg
END:VEVENT
BEGIN:VEVENT
DTSTART;TZID=America/Sao_Paulo:20250324T113000
DTEND;TZID=America/Sao_Paulo:20250324T150000
DTSTAMP:20260424T225903
CREATED:20250320T182816Z
LAST-MODIFIED:20250320T182816Z
UID:91494-1742815800-1742828400@oabsergipe.org.br
SUMMARY:Mês da Mulher - Séculos de Lutas e Conquistas - Edição Glória
DESCRIPTION:E o evento Mês da Mulher – Séculos de Lutas e Conquistas chega na Regional de Nossa Senhora da Glória e Região do Sertão de Sergipe na próxima segunda-feira\, 24\, com um almoço festivo dedicado às advogadas da região. \nSerá um momento especial de confraternização com sorteio de brindes e distribuição de lembrancinhas.
URL:https://oabsergipe.org.br/evento/mes-da-mulher-seculos-de-lutas-e-conquistas-edicao-gloria/
CATEGORIES:Destaques,Eventos
ATTACH;FMTTYPE=image/jpeg:https://oabsergipe.org.br/wp-content/uploads/2025/03/WhatsApp-Image-2025-03-19-at-17.38.03.jpeg
END:VEVENT
BEGIN:VEVENT
DTSTART;TZID=America/Sao_Paulo:20250324T083000
DTEND;TZID=America/Sao_Paulo:20250324T120000
DTSTAMP:20260424T225903
CREATED:20250319T195818Z
LAST-MODIFIED:20250319T195818Z
UID:91476-1742805000-1742817600@oabsergipe.org.br
SUMMARY:Mês da Mulher - Séculos de Lutas e Conquistas – Edição Itabaiana
DESCRIPTION:E as comemorações pelo Dia da Mulher desembarcam na cidade de Itabaiana na próxima segunda-feira\, 24\, com a Roda de Conversa: o impacto das múltiplas funções na saúde mental das mulheres\, com a psicóloga Beatriz Oliveira. \nO evento acontece a partir das 8h30\, na sede da Regional Itabaiana e vai contar com um delicioso café da manhã\, massagem terapêutica relaxante\, acupuntura\, terapia com ventosas e sorteio de brindes.
URL:https://oabsergipe.org.br/evento/mes-da-mulher-seculos-de-lutas-e-conquistas-edicao-itabaiana/
CATEGORIES:Destaques,Eventos
ATTACH;FMTTYPE=image/jpeg:https://oabsergipe.org.br/wp-content/uploads/2025/03/WhatsApp-Image-2025-03-19-at-11.30.35.jpeg
END:VEVENT
BEGIN:VEVENT
DTSTART;TZID=America/Sao_Paulo:20250320T160000
DTEND;TZID=America/Sao_Paulo:20250320T190000
DTSTAMP:20260424T225903
CREATED:20250319T114248Z
LAST-MODIFIED:20250319T135359Z
UID:91451-1742486400-1742497200@oabsergipe.org.br
SUMMARY:Mês da Mulher - Séculos de Lutas e Conquistas - Edição Estância
DESCRIPTION:Na próxima quinta-feira\, 20\, a OAB Sergipe vai realizar\, na sede da Regional Estância\, um encontro especial em homenagem ao mês da mulher com uma palestra sobre saúde mental e comportamental. \nO encontro também vai proporcionar uma tarde especial com sorteios de brindes\, treinamento de automaquiagem\, serviços de massagem terapêutica e relaxante\, além de realização de fotos profissionais.
URL:https://oabsergipe.org.br/evento/mes-da-mulher-seculos-de-lutas-e-conquistas-edicao-estancia/
CATEGORIES:Destaques,Eventos
ATTACH;FMTTYPE=image/jpeg:https://oabsergipe.org.br/wp-content/uploads/2025/03/WhatsApp-Image-2025-03-18-at-17.08.59.jpeg
END:VEVENT
BEGIN:VEVENT
DTSTART;TZID=America/Sao_Paulo:20241130T140000
DTEND;TZID=America/Sao_Paulo:20241130T200000
DTSTAMP:20260424T225903
CREATED:20241125T131145Z
LAST-MODIFIED:20241125T131145Z
UID:89743-1732975200-1732996800@oabsergipe.org.br
SUMMARY:Feijoada da Advocacia 2024
DESCRIPTION:Prepare-se para um dos eventos mais aguardados do ano! 🎉 No dia 30/11/2024\, das 12h às 20h\, vamos confraternizar com muita animação e um cardápio ALL INCLUSIVE. Nos encontramos na APCEF.
URL:https://oabsergipe.org.br/evento/feijoada-da-advocacia-2024/
CATEGORIES:Destaques,Eventos
ATTACH;FMTTYPE=image/jpeg:https://oabsergipe.org.br/wp-content/uploads/2024/11/WhatsApp-Image-2024-11-25-at-10.09.48.jpeg
END:VEVENT
BEGIN:VEVENT
DTSTART;TZID=America/Sao_Paulo:20241126T170000
DTEND;TZID=America/Sao_Paulo:20241126T200000
DTSTAMP:20260424T225903
CREATED:20241125T130458Z
LAST-MODIFIED:20241125T130458Z
UID:89741-1732640400-1732651200@oabsergipe.org.br
SUMMARY:Entrega da Comenda Gonçalo Rollemberg Leite
DESCRIPTION:A Ordem dos Advogados do Brasil – Seccional Sergipe (OAB/SE) fará a entrega\, na próxima terça-feira\, 26\, da medalha Gonçalo Rollemberg Leite aos advogados e advogadas com mais de 40 anos de profissão. A solenidade acontecerá no auditório da Caixa de Assistência dos Advogados de Sergipe (CAASE) às 17h.
URL:https://oabsergipe.org.br/evento/entrega-da-comenda-goncalo-rollemberg-leite/
CATEGORIES:Destaques,Eventos
ATTACH;FMTTYPE=image/jpeg:https://oabsergipe.org.br/wp-content/uploads/2024/11/WhatsApp-Image-2024-11-25-at-08.22.09.jpeg
END:VEVENT
BEGIN:VEVENT
DTSTART;TZID=America/Sao_Paulo:20241125T140000
DTEND;TZID=America/Sao_Paulo:20241126T170000
DTSTAMP:20260424T225903
CREATED:20241125T130001Z
LAST-MODIFIED:20241125T130222Z
UID:89735-1732543200-1732640400@oabsergipe.org.br
SUMMARY:Curso de Qualificação em Atendimento à Mulher Vítima de Violência de Gênero
DESCRIPTION:Nos dias 25 e 26 de novembro\, a OAB/SE realiza o curso de Qualificação em Atendimento à Mulher Vítima de Violência de Gênero\, edição Estância. O evento\, que acontece na sede da Regional Estância\, a partir das 14h\, é organizado pela Comissão de Defesa dos Direitos da Mulher (CDDM). \n 
URL:https://oabsergipe.org.br/evento/curso-de-qualificacao-em-atendimento-a-mulher-vitima-de-violencia-de-genero/
CATEGORIES:Cursos,Destaques
ATTACH;FMTTYPE=image/jpeg:https://oabsergipe.org.br/wp-content/uploads/2024/11/WhatsApp-Image-2024-11-22-at-17.14.01.jpeg
END:VEVENT
BEGIN:VEVENT
DTSTART;TZID=America/Sao_Paulo:20240930T130000
DTEND;TZID=America/Sao_Paulo:20240930T170000
DTSTAMP:20260424T225903
CREATED:20240926T131728Z
LAST-MODIFIED:20240926T131852Z
UID:88722-1727701200-1727715600@oabsergipe.org.br
SUMMARY:Práticas Restaurativas acolhem e dialogam com o Setembro Amarelo
DESCRIPTION:O ciclo de palestras “Práticas Restaurativas acolhem e dialogam com o Setembro Amarelo” vai realizar a Roda de Conversa: Desafios enfrentados nos cursos de graduação e a ressignificação das experiências na próxima segunda-feira\, 30\, a partir das 13h\, na Universidade Tiradentes. \n#OABSERGIPE #OABSE #PRÁTICASRESTAURATIVAS #RODADECONVERSA
URL:https://oabsergipe.org.br/evento/praticas-restaurativas-acolhem-e-dialogam-com-o-setembro-amarelo/
CATEGORIES:Destaques,Eventos
ATTACH;FMTTYPE=image/jpeg:https://oabsergipe.org.br/wp-content/uploads/2024/09/WhatsApp-Image-2024-09-26-at-09.03.42.jpeg
END:VEVENT
BEGIN:VEVENT
DTSTART;TZID=America/Sao_Paulo:20240927T180000
DTEND;TZID=America/Sao_Paulo:20240927T220000
DTSTAMP:20260424T225903
CREATED:20240925T181521Z
LAST-MODIFIED:20240925T181521Z
UID:88693-1727460000-1727474400@oabsergipe.org.br
SUMMARY:Caminhos para a inclusão: Direitos e Desafios do Acesso à Terapia ABA
DESCRIPTION:Nos dias 27 e 28\, a CAASE será palco de um evento imperdível\, promovido conjuntamente pela Comissão dos Acadêmicos de Direito com a Liga de Direitos Humanos da UFS\, o GEAC (Grupo de Estudos em Análise do Comportamento) e a Comissão do Direito das Pessoas com Autismo. Venha debater e conhecer mais sobre direitos e inclusão. Sua participação é fundamental!
URL:https://oabsergipe.org.br/evento/caminhos-para-a-inclusao-direitos-e-desafios-do-acesso-a-terapia-aba/
CATEGORIES:Cursos,Destaques
ATTACH;FMTTYPE=image/jpeg:https://oabsergipe.org.br/wp-content/uploads/2024/09/WhatsApp-Image-2024-09-24-at-08.36.01-2.jpeg
END:VEVENT
BEGIN:VEVENT
DTSTART;TZID=America/Sao_Paulo:20240926T190000
DTEND;TZID=America/Sao_Paulo:20240926T213000
DTSTAMP:20260424T225903
CREATED:20240925T180844Z
LAST-MODIFIED:20240925T181058Z
UID:88690-1727377200-1727386200@oabsergipe.org.br
SUMMARY:Setembro Amarelo - Círculo de Prevenção ao Suicídio: Experiências e Vivências
DESCRIPTION:Nesta quinta-feira\, a OAB/SE realiza o Círculo de Prevenção ao Suicídio:\nExperiências e Vivências – Práticas restaurativas acolhem e dialogam com Setembro Amarelo. O evento acontece a partir das 19h\, na Fanese em Aracaju e faz parte das ações do Setembro Amarelo.
URL:https://oabsergipe.org.br/evento/setembro-amarelo-circulo-de-prevencao-ao-suicidio-experiencias-e-vivencias/
CATEGORIES:Cursos,Destaques
ATTACH;FMTTYPE=image/png:https://oabsergipe.org.br/wp-content/uploads/2024/09/SETEMBRO-AMARELO-CIRCULO-DE-PREVENCAO-AO-SUICIDIO-FEED-1.png
END:VEVENT
BEGIN:VEVENT
DTSTART;TZID=America/Sao_Paulo:20240923T090000
DTEND;TZID=America/Sao_Paulo:20240923T170000
DTSTAMP:20260424T225903
CREATED:20240919T203646Z
LAST-MODIFIED:20240919T203646Z
UID:88362-1727082000-1727110800@oabsergipe.org.br
SUMMARY:Audiência Pública
DESCRIPTION:Descumprimentos de Decisões Judiciais Por Planos de Saúde
URL:https://oabsergipe.org.br/evento/audiencia-publica/
LOCATION:CAASE\, Rua Tenente Martinho Garcez\, 71 - Centro\, Aracaju - SE\, SE
CATEGORIES:Datas Importantes,Destaques
ATTACH;FMTTYPE=image/jpeg:https://oabsergipe.org.br/wp-content/uploads/2024/09/3EB0311A2FBC2D4AFFFA15.jpeg
END:VEVENT
BEGIN:VEVENT
DTSTART;TZID=America/Sao_Paulo:20240919T070000
DTEND;TZID=America/Sao_Paulo:20240920T200000
DTSTAMP:20260424T225903
CREATED:20240919T202815Z
LAST-MODIFIED:20240919T203116Z
UID:88267-1726729200-1726862400@oabsergipe.org.br
SUMMARY:II Conferêcia Estadual
DESCRIPTION:Caixa de Assistência dos Advogados de Sergipe (CAASE)\nRua Tenente Martinho Garcez\, 71 – Centro\, Aracaju – SE
URL:https://oabsergipe.org.br/evento/ii-conferecia-estadual/
LOCATION:Delmar Hotel\, Av. Santos Dumont\, 1500 - Coroa do Meio\, Aracaju - SE\, Brasil
CATEGORIES:Destaques,Eventos
ATTACH;FMTTYPE=image/jpeg:https://oabsergipe.org.br/wp-content/uploads/2024/09/3A3D4B63CFA5E03850EA.jpeg
END:VEVENT
END:VCALENDAR